BEGIN:VCALENDAR
VERSION:2.0
PRODID:icalendar-ruby
CALSCALE:GREGORIAN
METHOD:PUBLISH
BEGIN:VEVENT
DTSTAMP:20260421T181711Z
UID:44-439157@maranathafaith296.tithelysetup5.com
DTSTART:20260610T023000Z
DTEND:20260610T033000Z
CLASS:PUBLIC
CREATED:20260421T095129
DESCRIPTION:Abundant Life Class
LAST-MODIFIED:20260421T095129
LOCATION:Prayerline/Conference Line
SUMMARY:Abundant Life Class
URL;VALUE=URI:https://www.mfmq.org/events/abundant-life-class/2026-06-09
ATTACH;FILENAME=Annocements.jpg;FMTTYPE=image/jpeg:https://dq5pwpg1q8ru0.cl
 oudfront.net/2024/08/14/22/40/59/49a95f70-d8aa-4936-a17d-4e0100cb50dd/Anno
 cements.jpg
END:VEVENT
END:VCALENDAR
