BEGIN:VCALENDAR
VERSION:2.0
PRODID:icalendar-ruby
CALSCALE:GREGORIAN
METHOD:PUBLISH
BEGIN:VEVENT
DTSTAMP:20260422T010402Z
UID:44-440070@maranathafaith296.tithelysetup5.com
DTSTART:20260708T023000Z
DTEND:20260708T033000Z
CLASS:PUBLIC
CREATED:20260421T174455
DESCRIPTION:Abundant Life Class
LAST-MODIFIED:20260421T174455
LOCATION:Prayerline/Conference Line
SUMMARY:Abundant Life Class
URL;VALUE=URI:https://www.mfmq.org/events/abundant-life-class/2026-07-07
ATTACH;FILENAME=Annocements.jpg;FMTTYPE=image/jpeg:https://dq5pwpg1q8ru0.cl
 oudfront.net/2024/08/14/22/40/59/49a95f70-d8aa-4936-a17d-4e0100cb50dd/Anno
 cements.jpg
END:VEVENT
END:VCALENDAR
