BEGIN:VCALENDAR
VERSION:2.0
PRODID:icalendar-ruby
CALSCALE:GREGORIAN
METHOD:PUBLISH
BEGIN:VEVENT
DTSTAMP:20260421T114822Z
UID:47-437965@maranathafaith296.tithelysetup5.com
DTSTART;VALUE=DATE:20260426
DTEND;VALUE=DATE:20260426
CLASS:PUBLIC
CREATED:20260420T151912
DESCRIPTION:We’re easy to reach by public transit! You can take the E\, J
 \, or Z trains to Sutphin Blvd–Archer Av–JFK Airport station or any of
  several nearby bus lines (Q1\, Q8\, Q54\, Q60\, Q44-SBS). We’re also ju
 st a short walk from Jamaica Station.
LAST-MODIFIED:20260420T151912
LOCATION:91-20 146th St Jamaica\, NY 11435
SUMMARY:Meet us at our new location!
URL;VALUE=URI:https://www.mfmq.org/events/meet-us-at-our-new-location/2026-
 04-26
ATTACH;FILENAME=maranatha-faith-ministries-queens-1.jpg;FMTTYPE=image/jpeg:
 https://dq5pwpg1q8ru0.cloudfront.net/2026/04/20/22/15/40/1099d66d-9174-4c8
 6-b566-f9ecd86b853a/maranatha-faith-ministries-queens-1.jpg
END:VEVENT
END:VCALENDAR
